BEGIN:VCALENDAR
VERSION:2.0
PRODID:-//wp-events-plugin.com//7.1.7//EN
TZID:Europe/Madrid
X-WR-TIMEZONE:Europe/Madrid
BEGIN:VEVENT
UID:358@potes.es
DTSTART;TZID=Europe/Madrid:20260422T103000
DTEND;TZID=Europe/Madrid:20260423T140000
DTSTAMP:20260416T071958Z
URL:https://www.potes.es/events/nuevo-curso-de-conocimientos-y-habilidades
 -para-un-mundo-digital/
SUMMARY:NUEVO CURSO DE CONOCIMIENTOS Y HABILIDADES PARA UN MUNDO DIGITAL
DESCRIPTION:
ATTACH;FMTTYPE=image/jpeg:https://www.potes.es/wp-content/uploads/2026/04/
 curso-22-y-23-abril_page-0001-scaled.jpg
CATEGORIES:Eventos
END:VEVENT
BEGIN:VTIMEZONE
TZID:Europe/Madrid
X-LIC-LOCATION:Europe/Madrid
BEGIN:DAYLIGHT
DTSTART:20260329T030000
TZOFFSETFROM:+0100
TZOFFSETTO:+0200
TZNAME:CEST
END:DAYLIGHT
END:VTIMEZONE
END:VCALENDAR