BEGIN:VCALENDAR
VERSION:2.0
PRODID:-//wp-events-plugin.com//7.1.7//EN
TZID:Europe/Madrid
X-WR-TIMEZONE:Europe/Madrid
BEGIN:VEVENT
UID:349@potes.es
DTSTART;TZID=Europe/Madrid:20260410T180000
DTEND;TZID=Europe/Madrid:20260410T193000
DTSTAMP:20260407T065439Z
URL:https://www.potes.es/events/musica-para-un-camino-iluminado/
SUMMARY:MÚSICA PARA UN CAMINO ILUMINADO
DESCRIPTION:
ATTACH;FMTTYPE=image/jpeg:https://www.potes.es/wp-content/uploads/2026/04/
 MUSICA-EN-EL-CAMINO.jpg
END:VEVENT
BEGIN:VTIMEZONE
TZID:Europe/Madrid
X-LIC-LOCATION:Europe/Madrid
BEGIN:DAYLIGHT
DTSTART:20260329T030000
TZOFFSETFROM:+0100
TZOFFSETTO:+0200
TZNAME:CEST
END:DAYLIGHT
END:VTIMEZONE
END:VCALENDAR