BEGIN:VCALENDAR
VERSION:2.0
PRODID:-//wp-events-plugin.com//7.1.7//EN
TZID:Europe/Madrid
X-WR-TIMEZONE:Europe/Madrid
BEGIN:VEVENT
UID:354@potes.es
DTSTART;TZID=Europe/Madrid:20260415T103000
DTEND;TZID=Europe/Madrid:20260417T130000
DTSTAMP:20260409T123004Z
URL:https://www.potes.es/events/curso-habilidades-para-un-mundo-digital/
SUMMARY:CURSO HABILIDADES PARA UN MUNDO DIGITAL
DESCRIPTION:
ATTACH;FMTTYPE=image/jpeg:https://www.potes.es/wp-content/uploads/2026/04/
 CARTEL-CON-FECHAS-Y-TELEFONO_page-0001-1-scaled.jpg
END:VEVENT
BEGIN:VTIMEZONE
TZID:Europe/Madrid
X-LIC-LOCATION:Europe/Madrid
BEGIN:DAYLIGHT
DTSTART:20260329T030000
TZOFFSETFROM:+0100
TZOFFSETTO:+0200
TZNAME:CEST
END:DAYLIGHT
END:VTIMEZONE
END:VCALENDAR