BEGIN:VCALENDAR
VERSION:2.0
PRODID:-//wp-events-plugin.com//7.1.7//EN
TZID:Europe/Madrid
X-WR-TIMEZONE:Europe/Madrid
BEGIN:VEVENT
UID:362@potes.es
DTSTART;TZID=Europe/Madrid:20260421T193000
DTEND;TZID=Europe/Madrid:20260421T203000
DTSTAMP:20260423T071807Z
URL:https://www.potes.es/events/conferencia-la-reconquista-fenomeno-cantab
 ro/
SUMMARY:CONFERENCIA: LA RECONQUISTA FENÓMENO CÁNTABRO
DESCRIPTION:
ATTACH;FMTTYPE=image/jpeg:https://www.potes.es/wp-content/uploads/2026/04/
 CONFERENCIA-LA-VOZ-DE-LIEBANA.jpg
CATEGORIES:Eventos
END:VEVENT
BEGIN:VTIMEZONE
TZID:Europe/Madrid
X-LIC-LOCATION:Europe/Madrid
BEGIN:DAYLIGHT
DTSTART:20260329T030000
TZOFFSETFROM:+0100
TZOFFSETTO:+0200
TZNAME:CEST
END:DAYLIGHT
END:VTIMEZONE
END:VCALENDAR