BEGIN:VCALENDAR
VERSION:2.0
PRODID:-//wp-events-plugin.com//7.1.7//EN
TZID:Europe/Madrid
X-WR-TIMEZONE:Europe/Madrid
BEGIN:VEVENT
UID:360@potes.es
DTSTART;TZID=Europe/Madrid:20260425T183000
DTEND;TZID=Europe/Madrid:20260425T200000
DTSTAMP:20260416T124415Z
URL:https://www.potes.es/events/concurso-de-modelos-royal-senior-silver/
SUMMARY:CONCURSO DE MODELOS ROYAL SENIOR & SILVER
DESCRIPTION:
ATTACH;FMTTYPE=image/jpeg:https://www.potes.es/wp-content/uploads/2026/04/
 CONCURSO-MODELOS.jpg
CATEGORIES:Eventos
END:VEVENT
BEGIN:VTIMEZONE
TZID:Europe/Madrid
X-LIC-LOCATION:Europe/Madrid
BEGIN:DAYLIGHT
DTSTART:20260329T030000
TZOFFSETFROM:+0100
TZOFFSETTO:+0200
TZNAME:CEST
END:DAYLIGHT
END:VTIMEZONE
END:VCALENDAR