BEGIN:VCALENDAR
VERSION:2.0
PRODID:-//wp-events-plugin.com//7.1.7//EN
TZID:Europe/Madrid
X-WR-TIMEZONE:Europe/Madrid
BEGIN:VEVENT
UID:350@potes.es
DTSTART;TZID=Europe/Madrid:20260419T093000
DTEND;TZID=Europe/Madrid:20260419T133000
DTSTAMP:20260407T070057Z
URL:https://www.potes.es/events/ciencia-en-el-camino-el-canto-de-las-aves/
SUMMARY:CIENCIA EN EL CAMINO: EL CANTO DE LAS AVES
DESCRIPTION:\nHorario: De 9:30 a 13:30Punto de encuentro: Tudes (inicio de
 l Camino Lebaniego hacia Porcieda)\n\nDistancia y dificultad: paseo interp
 retativo de aproximadamente 2\,5 km (ida y vuelta). Dificultad baja.Edad m
 ínima: a partir de 8 años.\n\nLas aves llenan el paisaje de sonidos que 
 muchas veces pasan desapercibidos. En esta actividad se propone una escuch
 a atenta para descubrir e interpretar los cantos de distintas especies a l
 o largo del recorrido.\n\nDurante el paseo por el Camino Lebaniego hasta l
 a aldea abandonada de Porcieda se aprenderá a reconocer algunos cantos y 
 reclamos característicos\, se identificarán aves comunes del entorno por
  su sonido y se explicará la función de los cantos\, como la defensa del
  territorio\, el cortejo o las señales de alerta. También se observará 
 cómo el paisaje y la hora del día influyen en la actividad de las aves.\
 n\nLa actividad permitirá acercarse al entorno desde una perspectiva sens
 orial\, afinando el oído para comprender mejor la biodiversidad que nos r
 odea.\n\nSe recomienda acudir con calzado cómodo\, ropa discreta\, prism
 áticos opcionales y algo de almuerzo para la pausa de media mañana.
ATTACH;FMTTYPE=image/jpeg:https://www.potes.es/wp-content/uploads/2026/04/
 CIENCIA-EN-EL-CAMINO.png
CATEGORIES:Eventos
END:VEVENT
BEGIN:VTIMEZONE
TZID:Europe/Madrid
X-LIC-LOCATION:Europe/Madrid
BEGIN:DAYLIGHT
DTSTART:20260329T030000
TZOFFSETFROM:+0100
TZOFFSETTO:+0200
TZNAME:CEST
END:DAYLIGHT
END:VTIMEZONE
END:VCALENDAR