BEGIN:VCALENDAR
VERSION:2.0
PRODID:-//wp-events-plugin.com//7.1.7//EN
TZID:Europe/Madrid
X-WR-TIMEZONE:Europe/Madrid
BEGIN:VEVENT
UID:351@potes.es
DTSTART;TZID=Europe/Madrid;VALUE=DATE:20260401
DTEND;TZID=Europe/Madrid;VALUE=DATE:20260408
DTSTAMP:20260407T070223Z
URL:https://www.potes.es/events/certamen-de-poesia-infantil-antonio-casare
 s/
SUMMARY:CERTAMEN DE POESIA INFANTIL "ANTONIO CASARES"
DESCRIPTION:
ATTACH;FMTTYPE=image/jpeg:https://www.potes.es/wp-content/uploads/2026/04/
 CERTAMEN-DE-POESIA.jpg
CATEGORIES:Eventos
END:VEVENT
BEGIN:VTIMEZONE
TZID:Europe/Madrid
X-LIC-LOCATION:Europe/Madrid
BEGIN:DAYLIGHT
DTSTART:20260329T030000
TZOFFSETFROM:+0100
TZOFFSETTO:+0200
TZNAME:CEST
END:DAYLIGHT
END:VTIMEZONE
END:VCALENDAR