BEGIN:VCALENDAR
VERSION:2.0
PRODID:-//wp-events-plugin.com//7.1.7//EN
TZID:Europe/Madrid
X-WR-TIMEZONE:Europe/Madrid
BEGIN:VEVENT
UID:359@potes.es
DTSTART;TZID=Europe/Madrid;VALUE=DATE:20260416
DTEND;TZID=Europe/Madrid;VALUE=DATE:20260417
DTSTAMP:20260416T124239Z
URL:https://www.potes.es/events/aprende-y-practica-bolos-en-liebana/
SUMMARY:APRENDE Y PRACTICA BOLOS EN LIEBANA
DESCRIPTION:
ATTACH;FMTTYPE=image/jpeg:https://www.potes.es/wp-content/uploads/2026/04/
 BOLOS-EN-LIEBANA.jpg
END:VEVENT
BEGIN:VTIMEZONE
TZID:Europe/Madrid
X-LIC-LOCATION:Europe/Madrid
BEGIN:DAYLIGHT
DTSTART:20260329T030000
TZOFFSETFROM:+0100
TZOFFSETTO:+0200
TZNAME:CEST
END:DAYLIGHT
END:VTIMEZONE
END:VCALENDAR